BEGIN:VCALENDAR
VERSION:2.0
PRODID:-// - ECPv6.15.20//NONSGML v1.0//EN
CALSCALE:GREGORIAN
METHOD:PUBLISH
X-ORIGINAL-URL:https://i612.org
X-WR-CALDESC:Events for 
REFRESH-INTERVAL;VALUE=DURATION:PT1H
X-Robots-Tag:noindex
X-PUBLISHED-TTL:PT1H
BEGIN:VTIMEZONE
TZID:UTC
BEGIN:STANDARD
TZOFFSETFROM:+0000
TZOFFSETTO:+0000
TZNAME:UTC
DTSTART:20220101T000000
END:STANDARD
END:VTIMEZONE
BEGIN:VEVENT
DTSTART;TZID=UTC:20231207T180000
DTEND;TZID=UTC:20231207T230000
DTSTAMP:20260420T065519
CREATED:20230208T220221Z
LAST-MODIFIED:20230208T220221Z
UID:6995-1701972000-1701990000@i612.org
SUMMARY:Holiday Social 2023: Casino Night!
DESCRIPTION:Join i612 and our great sponsors for a Casino Night-themed 2023 holiday party! \ni612 felt combining two classic events (Casino Night\, Holiday) into one would end the year on the right note. \nMore details to come!
URL:https://i612.org/event/holiday-social-2023-casino-night/
CATEGORIES:Social
END:VEVENT
END:VCALENDAR