BEGIN:VCALENDAR
VERSION:2.0
PRODID:-// - ECPv6.15.20//NONSGML v1.0//EN
CALSCALE:GREGORIAN
METHOD:PUBLISH
X-ORIGINAL-URL:https://i612.org
X-WR-CALDESC:Events for 
REFRESH-INTERVAL;VALUE=DURATION:PT1H
X-Robots-Tag:noindex
X-PUBLISHED-TTL:PT1H
BEGIN:VTIMEZONE
TZID:UTC
BEGIN:STANDARD
TZOFFSETFROM:+0000
TZOFFSETTO:+0000
TZNAME:UTC
DTSTART:20210101T000000
END:STANDARD
END:VTIMEZONE
BEGIN:VEVENT
DTSTART;TZID=UTC:20221027T180000
DTEND;TZID=UTC:20221027T230000
DTSTAMP:20260423T080756
CREATED:20220907T152410Z
LAST-MODIFIED:20220907T152410Z
UID:6966-1666893600-1666911600@i612.org
SUMMARY:October 2022 Social: Halloween Is Back\, Part 2!
DESCRIPTION:Join i612 on October 27 at the Varsity Theater in Minneapolis to celebrate Halloween! \nFood & drinks will be provided\, as well as our traditional costume contest. \nMore details to come!
URL:https://i612.org/event/october-2022-social-halloween-is-back-part-2/
LOCATION:Varsity Theater\, 1308 SE 4th St\, Minneapolis\, MN\, 55414\, United States
CATEGORIES:Social
END:VEVENT
END:VCALENDAR