BEGIN:VCALENDAR
VERSION:2.0
PRODID:-// - ECPv6.15.20//NONSGML v1.0//EN
CALSCALE:GREGORIAN
METHOD:PUBLISH
X-ORIGINAL-URL:https://i612.org
X-WR-CALDESC:Events for 
REFRESH-INTERVAL;VALUE=DURATION:PT1H
X-Robots-Tag:noindex
X-PUBLISHED-TTL:PT1H
BEGIN:VTIMEZONE
TZID:UTC
BEGIN:STANDARD
TZOFFSETFROM:+0000
TZOFFSETTO:+0000
TZNAME:UTC
DTSTART:20210101T000000
END:STANDARD
END:VTIMEZONE
BEGIN:VEVENT
DTSTART;TZID=UTC:20220519T180000
DTEND;TZID=UTC:20220519T220000
DTSTAMP:20260423T162435
CREATED:20220427T192146Z
LAST-MODIFIED:20220427T192820Z
UID:6930-1652983200-1652997600@i612.org
SUMMARY:May 2022 - Rooftop Summer Kickoff
DESCRIPTION:Please join i612 on May 19th at 6pm for networking\, fun and hopefully sun on Union’s rooftop in downtown Minneapolis! Due to their retractable roof\, we’ll see you there\, rain or shine! \nDrinks and food will be provided. \nA HUGE thank you to our Rooftop sponsors: VideoAmp\, Quantcast\, Samba TV\, InMarket\, Viant\, MiQ\, and Acuity \n \n\n \n \n \n \n\n \n\n \n\n\n\n\n  \nIf you know someone in the media industry who would like to attend this and/or future i612 events\, but they are not on our current distro list\, please reach out to i612mpls [at] gmail [dot]com to get them added.
URL:https://i612.org/event/may-2022-rooftop-summer-kickoff/
LOCATION:Union Rooftop\, 731 Hennepin Ave #1\, Minneapolis\, MN\, 55403\, United States
CATEGORIES:Social
END:VEVENT
END:VCALENDAR