BEGIN:VCALENDAR
VERSION:2.0
PRODID:-// - ECPv6.15.20//NONSGML v1.0//EN
CALSCALE:GREGORIAN
METHOD:PUBLISH
X-ORIGINAL-URL:https://i612.org
X-WR-CALDESC:Events for 
REFRESH-INTERVAL;VALUE=DURATION:PT1H
X-Robots-Tag:noindex
X-PUBLISHED-TTL:PT1H
BEGIN:VTIMEZONE
TZID:UTC
BEGIN:STANDARD
TZOFFSETFROM:+0000
TZOFFSETTO:+0000
TZNAME:UTC
DTSTART:20190101T000000
END:STANDARD
END:VTIMEZONE
BEGIN:VEVENT
DTSTART;TZID=UTC:20201210T183000
DTEND;TZID=UTC:20201210T230000
DTSTAMP:20260424T202807
CREATED:20200206T001152Z
LAST-MODIFIED:20200206T001152Z
UID:6742-1607625000-1607641200@i612.org
SUMMARY:December 2020 - Holiday Party!
DESCRIPTION:More details to follow!
URL:https://i612.org/event/december-2020-holiday-party/
CATEGORIES:Social
END:VEVENT
END:VCALENDAR