BEGIN:VCALENDAR
VERSION:2.0
PRODID:-// - ECPv6.15.20//NONSGML v1.0//EN
CALSCALE:GREGORIAN
METHOD:PUBLISH
X-ORIGINAL-URL:https://i612.org
X-WR-CALDESC:Events for 
REFRESH-INTERVAL;VALUE=DURATION:PT1H
X-Robots-Tag:noindex
X-PUBLISHED-TTL:PT1H
BEGIN:VTIMEZONE
TZID:UTC
BEGIN:STANDARD
TZOFFSETFROM:+0000
TZOFFSETTO:+0000
TZNAME:UTC
DTSTART:20120101T000000
END:STANDARD
END:VTIMEZONE
BEGIN:VEVENT
DTSTART;TZID=UTC:20130620T173000
DTEND;TZID=UTC:20130620T223000
DTSTAMP:20260422T223425
CREATED:20130322T192343Z
LAST-MODIFIED:20160826T232954Z
UID:192-1371749400-1371767400@i612.org
SUMMARY:Summer Rooftop Event at Seven
DESCRIPTION:SPONSORED BY\n\n\n______________________________________________________________________ \n\n  \nEventBrite Invitation Status: Sent
URL:https://i612.org/event/summer-rooftop-event-at-seven/
LOCATION:Seven Sushi And Steak Ultralounge\, 700 Hennepin Ave S\, Minneapolis\, MN\, 55403\, United States
CATEGORIES:Social
END:VEVENT
BEGIN:VEVENT
DTSTART;TZID=UTC:20130516T173000
DTEND;TZID=UTC:20130516T210000
DTSTAMP:20260422T223425
CREATED:20130315T180103Z
LAST-MODIFIED:20160826T231009Z
UID:150-1368725400-1368738000@i612.org
SUMMARY:Social Event Sponsored by Martha Stewart Omnimedia
DESCRIPTION:EventBrite Invitation Status: Sent
URL:https://i612.org/event/social-event-tbd-2/
LOCATION:Marquee at Union\, Minneapolis\, United States
CATEGORIES:Social
END:VEVENT
BEGIN:VEVENT
DTSTART;TZID=UTC:20130411T173000
DTEND;TZID=UTC:20130411T210000
DTSTAMP:20260422T223425
CREATED:20130314T190018Z
LAST-MODIFIED:20160827T000441Z
UID:72-1365701400-1365714000@i612.org
SUMMARY:Social Event Sponsored by AddThis
DESCRIPTION:EventBrite Invitation Status: Sent
URL:https://i612.org/event/social-event-sponsored-by-addthis/
LOCATION:Crave Minneapolis (LaSalle Room)\, 825 Hennepin Ave\, Minneapolis\, MN\, 55402\, United States
CATEGORIES:Social
END:VEVENT
END:VCALENDAR