BEGIN:VCALENDAR
VERSION:2.0
PRODID:-// - ECPv6.15.20//NONSGML v1.0//EN
CALSCALE:GREGORIAN
METHOD:PUBLISH
X-ORIGINAL-URL:https://i612.org
X-WR-CALDESC:Events for 
REFRESH-INTERVAL;VALUE=DURATION:PT1H
X-Robots-Tag:noindex
X-PUBLISHED-TTL:PT1H
BEGIN:VTIMEZONE
TZID:UTC
BEGIN:STANDARD
TZOFFSETFROM:+0000
TZOFFSETTO:+0000
TZNAME:UTC
DTSTART:20240101T000000
END:STANDARD
END:VTIMEZONE
BEGIN:VEVENT
DTSTART;TZID=UTC:20250917T120000
DTEND;TZID=UTC:20250917T130000
DTSTAMP:20260423T042436
CREATED:20250314T171349Z
LAST-MODIFIED:20250314T171349Z
UID:7044-1758110400-1758114000@i612.org
SUMMARY:September 2025 Educational + Evening Social
DESCRIPTION:i612 is hosting a virtual educational event on September 17 (topic TBD)\, followed by an evening social get together.
URL:https://i612.org/event/september-2025-educational-evening-social/
LOCATION:MN
CATEGORIES:Educational
END:VEVENT
BEGIN:VEVENT
DTSTART;TZID=UTC:20251211T180000
DTEND;TZID=UTC:20251211T230000
DTSTAMP:20260423T042436
CREATED:20250314T171524Z
LAST-MODIFIED:20250314T171524Z
UID:7046-1765476000-1765494000@i612.org
SUMMARY:December 2025: The Annual Holiday Social!
DESCRIPTION:i612 is hosting our annual Holiday Social event on December 11. More details to come!
URL:https://i612.org/event/december-2025-the-annual-holiday-social/
LOCATION:MN
CATEGORIES:Social
END:VEVENT
END:VCALENDAR