BEGIN:VCALENDAR
VERSION:2.0
PRODID:-// - ECPv6.15.20//NONSGML v1.0//EN
CALSCALE:GREGORIAN
METHOD:PUBLISH
X-ORIGINAL-URL:https://i612.org
X-WR-CALDESC:Events for 
REFRESH-INTERVAL;VALUE=DURATION:PT1H
X-Robots-Tag:noindex
X-PUBLISHED-TTL:PT1H
BEGIN:VTIMEZONE
TZID:UTC
BEGIN:STANDARD
TZOFFSETFROM:+0000
TZOFFSETTO:+0000
TZNAME:UTC
DTSTART:20220101T000000
END:STANDARD
END:VTIMEZONE
BEGIN:VEVENT
DTSTART;TZID=UTC:20230824T180000
DTEND;TZID=UTC:20230824T230000
DTSTAMP:20260422T155915
CREATED:20230208T215813Z
LAST-MODIFIED:20230208T215813Z
UID:6988-1692900000-1692918000@i612.org
SUMMARY:August 2023 Social: Twins Game!
DESCRIPTION:Join i612 for our second social of the summer as the Minnesota Twins take on the Texas Rangers on Thursday\, August 24 at 6:10. \nMore details to come!
URL:https://i612.org/event/august-2023-social-twins-game/
LOCATION:Target Field\, 1 Twins Way\, Minneapolis\, MN\, 55403\, United States
CATEGORIES:Social
END:VEVENT
END:VCALENDAR