BEGIN:VCALENDAR
VERSION:2.0
PRODID:-// - ECPv6.15.20//NONSGML v1.0//EN
CALSCALE:GREGORIAN
METHOD:PUBLISH
X-ORIGINAL-URL:https://i612.org
X-WR-CALDESC:Events for 
REFRESH-INTERVAL;VALUE=DURATION:PT1H
X-Robots-Tag:noindex
X-PUBLISHED-TTL:PT1H
BEGIN:VTIMEZONE
TZID:UTC
BEGIN:STANDARD
TZOFFSETFROM:+0000
TZOFFSETTO:+0000
TZNAME:UTC
DTSTART:20210101T000000
END:STANDARD
END:VTIMEZONE
BEGIN:VEVENT
DTSTART;TZID=UTC:20221116T120000
DTEND;TZID=UTC:20221116T133000
DTSTAMP:20260423T080413
CREATED:20220907T152111Z
LAST-MODIFIED:20221104T221047Z
UID:6964-1668600000-1668605400@i612.org
SUMMARY:2022 November Educational: The Challenges of Advanced TV
DESCRIPTION:Join i612 on Wednesay\, November 16 at 12:00 Central for an engaging discussion on Advanced TV. \nAdvanced TV is not perfect and we know it. We are crowdsourcing questions and topics so that\nagency questions can be answered. \nSign up for the webinar \nSome initial talking points will already include: \n\nThe difference in CPM between linear television and Advanced TV\nFrequency management challenges with streaming\nDifficulties accessing truly premium inventory at scale\nProving out digital’s success to more\nLinear-focused or conversion-focused clients\n\nOur Panel\nJordan Looney – Manager of Insights & Analytics @Vizio \nCynthia Clevenger – VP of Marketing @Tubi \nMonica Longoria – Head of Product Marketing @LG Ads \nDaniel Church – Head of Advanced TV Product @Beachfront \nTom Wolfe – SVP Business Development @Viant \nThanks to our sponsors!
URL:https://i612.org/event/september-2022-educational-the-challenges-of-advanced-tv/
LOCATION:Zoom
CATEGORIES:Educational
END:VEVENT
END:VCALENDAR