BEGIN:VCALENDAR
VERSION:2.0
PRODID:-// - ECPv6.15.20//NONSGML v1.0//EN
CALSCALE:GREGORIAN
METHOD:PUBLISH
X-ORIGINAL-URL:https://i612.org
X-WR-CALDESC:Events for 
REFRESH-INTERVAL;VALUE=DURATION:PT1H
X-Robots-Tag:noindex
X-PUBLISHED-TTL:PT1H
BEGIN:VTIMEZONE
TZID:UTC
BEGIN:STANDARD
TZOFFSETFROM:+0000
TZOFFSETTO:+0000
TZNAME:UTC
DTSTART:20200101T000000
END:STANDARD
END:VTIMEZONE
BEGIN:VEVENT
DTSTART;TZID=UTC:20211028T180000
DTEND;TZID=UTC:20211029T000000
DTSTAMP:20260424T064442
CREATED:20211006T230223Z
LAST-MODIFIED:20211006T230316Z
UID:6922-1635444000-1635465600@i612.org
SUMMARY:Halloween 2021 - We're Baaaaaccckkk!!!
DESCRIPTION:We’re Baaaaaccckkk!!! \nJoin i612 for a spooky night of costumes\, contests\, cocktails\, and conversation! PROOF OF VACCINE REQUIRED AT THE DOOR! \nWe hope you can make it! \nCheers\, \ni612
URL:https://i612.org/event/halloween-2021-were-baaaaaccckkk/
LOCATION:Varsity Theater\, 1308 SE 4th St\, Minneapolis\, MN\, 55414\, United States
CATEGORIES:Social
END:VEVENT
END:VCALENDAR