BEGIN:VCALENDAR
VERSION:2.0
PRODID:-// - ECPv6.15.20//NONSGML v1.0//EN
CALSCALE:GREGORIAN
METHOD:PUBLISH
X-ORIGINAL-URL:https://i612.org
X-WR-CALDESC:Events for 
REFRESH-INTERVAL;VALUE=DURATION:PT1H
X-Robots-Tag:noindex
X-PUBLISHED-TTL:PT1H
BEGIN:VTIMEZONE
TZID:UTC
BEGIN:STANDARD
TZOFFSETFROM:+0000
TZOFFSETTO:+0000
TZNAME:UTC
DTSTART:20190101T000000
END:STANDARD
END:VTIMEZONE
BEGIN:VEVENT
DTSTART;TZID=UTC:20201029T183000
DTEND;TZID=UTC:20201029T230000
DTSTAMP:20260425T000218
CREATED:20200206T001103Z
LAST-MODIFIED:20200206T001103Z
UID:6740-1603996200-1604012400@i612.org
SUMMARY:October 2020 - Halloween!
DESCRIPTION:More details to follow!
URL:https://i612.org/event/october-2020-halloween/
CATEGORIES:Social
END:VEVENT
END:VCALENDAR